BEGIN:VCALENDAR
VERSION:2.0
PRODID:-//TC HOPS - ECPv6.15.20//NONSGML v1.0//EN
CALSCALE:GREGORIAN
METHOD:PUBLISH
X-ORIGINAL-URL:https://tchops.org
X-WR-CALDESC:Events for TC HOPS
REFRESH-INTERVAL;VALUE=DURATION:PT1H
X-Robots-Tag:noindex
X-PUBLISHED-TTL:PT1H
BEGIN:VTIMEZONE
TZID:UTC
BEGIN:STANDARD
TZOFFSETFROM:+0000
TZOFFSETTO:+0000
TZNAME:UTC
DTSTART:20210101T000000
END:STANDARD
END:VTIMEZONE
BEGIN:VEVENT
DTSTART;TZID=UTC:20240421T130000
DTEND;TZID=UTC:20240421T150000
DTSTAMP:20260420T064246
CREATED:20240112T114234Z
LAST-MODIFIED:20240112T114234Z
UID:1637-1713704400-1713711600@tchops.org
SUMMARY:TCHOPS CLUB MEETING
DESCRIPTION:1:00 social hour \n2:00 meeting
URL:https://tchops.org/event/tchops-club-meeting-14/
LOCATION:CA
END:VEVENT
BEGIN:VEVENT
DTSTART;TZID=UTC:20240323T120000
DTEND;TZID=UTC:20240323T160000
DTSTAMP:20260420T064246
CREATED:20240112T115347Z
LAST-MODIFIED:20240112T115448Z
UID:1642-1711195200-1711209600@tchops.org
SUMMARY:Central Coast Craft Beer Festival 2024
DESCRIPTION:Join us for the sixth annual Central Coast Craft Beer Fest\, hosted by the Central Coast Brewers Guild\, on Saturday\, March 23th\, 2024 at the famous Sunken Gardens in beautiful Atascadero. \nOver 55 independently owned craft breweries\, ciders\, seltzers\, kombucha and wineries from all over California will be on site!\nLive entertainment by Silk Ocean\, Carbon City Lights and DJ sets by Traffic Records!
URL:https://tchops.org/event/central-coast-craft-beer-festival-2024/
LOCATION:Sunken Gardens\, 6505 El Camino Real\, Atascadero\, CA\, 93422\, United States
END:VEVENT
BEGIN:VEVENT
DTSTART;TZID=UTC:20240316T130000
DTEND;TZID=UTC:20240316T163000
DTSTAMP:20260420T064246
CREATED:20240112T114754Z
LAST-MODIFIED:20240112T114803Z
UID:1639-1710594000-1710606600@tchops.org
SUMMARY:VISALIA IRISH FEST IN THE PARK
DESCRIPTION:Again this year we will be at Rec Park (Jacob St @ Center Ave.)\, more space\, more people more fun! Come enjoy the park setting\, sample craft beers and play some fun yard games.\n  \nDoors open at 1pm\nLast pour will be at 4:30\nTickets are $50 in advance and $60 at the door – there are a limited\nnumber of tickets\nNon-drinker/Designated Driver $20
URL:https://tchops.org/event/visalia-irish-fest-in-the-park/
LOCATION:Visalia Rec Park\, 345 N Jacob St\, Visalia\, CA\, 93291\, United States
END:VEVENT
BEGIN:VEVENT
DTSTART;TZID=UTC:20240310T130000
DTEND;TZID=UTC:20240310T150000
DTSTAMP:20260420T064246
CREATED:20240112T113914Z
LAST-MODIFIED:20240112T114057Z
UID:1635-1710075600-1710082800@tchops.org
SUMMARY:TCHOPS CLUB MEETING
DESCRIPTION:1:00 social hour \n2:00 meeting
URL:https://tchops.org/event/tchops-club-meeting-13/
LOCATION:Open
END:VEVENT
BEGIN:VEVENT
DTSTART;TZID=UTC:20240218T130000
DTEND;TZID=UTC:20240218T150000
DTSTAMP:20260420T064246
CREATED:20240112T113714Z
LAST-MODIFIED:20240205T050148Z
UID:1633-1708261200-1708268400@tchops.org
SUMMARY:TCHOPS CLUB MEETING
DESCRIPTION:1:00 social hour \n2:00 meeting
URL:https://tchops.org/event/tchops-club-meeting-12/
LOCATION:Long Shot Brewery\, 511 E Main St\, Visalia\, CA\, 93292\, United States
END:VEVENT
BEGIN:VEVENT
DTSTART;TZID=UTC:20240121T130000
DTEND;TZID=UTC:20240121T150000
DTSTAMP:20260420T064246
CREATED:20240112T112749Z
LAST-MODIFIED:20240112T113018Z
UID:1631-1705842000-1705849200@tchops.org
SUMMARY:TCHOPS CLUB MEETING
DESCRIPTION:1:00 social hour \n2:00 meeting
URL:https://tchops.org/event/tchops-club-meeting-11/
LOCATION:Kaweah Brewing Co\, 1054 E Walnut ave\, Tulare \, CA\, 93274\, United States
END:VEVENT
BEGIN:VEVENT
DTSTART;TZID=UTC:20231210T140000
DTEND;TZID=UTC:20231210T170000
DTSTAMP:20260420T064246
CREATED:20231026T033233Z
LAST-MODIFIED:20231026T033233Z
UID:1628-1702216800-1702227600@tchops.org
SUMMARY:TCHOPS CHRISTMAS PARTY
DESCRIPTION:
URL:https://tchops.org/event/tchops-christmas-party/
LOCATION:Moosedog Brewing\, 9626 W Nicholas Ave\, Visalia\, CA\, United States
END:VEVENT
BEGIN:VEVENT
DTSTART;TZID=UTC:20231112T130000
DTEND;TZID=UTC:20231112T150000
DTSTAMP:20260420T064246
CREATED:20231026T031438Z
LAST-MODIFIED:20231026T031447Z
UID:1619-1699794000-1699801200@tchops.org
SUMMARY:TCHOPS CLUB MEETING & HOME BREW COMPETITION
DESCRIPTION:1:00 social hour \n2:00 meeting
URL:https://tchops.org/event/tchops-club-meeting-home-brew-competition/
LOCATION:Brewbaker’s\, 219 E Main St \, Visalia \, CA\, 93291\, United States
END:VEVENT
BEGIN:VEVENT
DTSTART;TZID=UTC:20231111T110000
DTEND;TZID=UTC:20231111T160000
DTSTAMP:20260420T064246
CREATED:20231026T032827Z
LAST-MODIFIED:20231026T032827Z
UID:1625-1699700400-1699718400@tchops.org
SUMMARY:1852 FALLFEST
DESCRIPTION:Join us at 1852 Brew Co for local craft vendors\, breweries\, food vendors\, live music and more! Wear your fall color flannels and celebrate the season with us!
URL:https://tchops.org/event/1852-fallfest/
LOCATION:1852\, 707 W Murray Ave\, Vsalia\, Ca\, 93291
END:VEVENT
BEGIN:VEVENT
DTSTART;TZID=UTC:20230729T170000
DTEND;TZID=UTC:20230729T210000
DTSTAMP:20260420T064246
CREATED:20230525T061818Z
LAST-MODIFIED:20230525T061818Z
UID:1605-1690650000-1690664400@tchops.org
SUMMARY:Tulare Backyard Brew Fest
DESCRIPTION:
URL:https://tchops.org/event/tulare-backyard-brew-fest/
LOCATION:International Agri-Center\, 4500 South Laspina St. Arbor Lawn in Tulare\, Tulare\, Ca
END:VEVENT
BEGIN:VEVENT
DTSTART;TZID=UTC:20230603T170000
DTEND;TZID=UTC:20230603T210000
DTSTAMP:20260420T064246
CREATED:20230406T003148Z
LAST-MODIFIED:20230406T003148Z
UID:1583-1685811600-1685826000@tchops.org
SUMMARY:Kings Brewfest 2023
DESCRIPTION:Kings Brewfest 2023
URL:https://tchops.org/event/kings-brewfest-2023/
LOCATION:Kings Lion Complex\, 652 S 19th AveLemoore\, CA\, Lemoore\, CA\, 93245\, United States
ATTACH;FMTTYPE=image/jpeg:https://tchops.org/wp-content/uploads/2023/04/Screen-Shot-2023-04-05-at-10.26.05-AM.jpg
END:VEVENT
BEGIN:VEVENT
DTSTART;TZID=UTC:20230521T130000
DTEND;TZID=UTC:20230521T150000
DTSTAMP:20260420T064246
CREATED:20230525T060337Z
LAST-MODIFIED:20230525T060854Z
UID:1603-1684674000-1684681200@tchops.org
SUMMARY:TCHOPS CLUB MEETING
DESCRIPTION:social 1:00\nMeeting 2:00
URL:https://tchops.org/event/tchops-club-meeting-10/
LOCATION:Three Rivers Brewery\, 41763 Sierra Drive\, Three Rivers\, CA\, United States
END:VEVENT
BEGIN:VEVENT
DTSTART;TZID=UTC:20230506T140000
DTEND;TZID=UTC:20230506T180000
DTSTAMP:20260420T064246
CREATED:20230406T000421Z
LAST-MODIFIED:20230406T001936Z
UID:1576-1683381600-1683396000@tchops.org
SUMMARY:Exeter Lion Club BREWFEST
DESCRIPTION:Mark your calendars\, plan your alibis and book the babysitters folks\, we’re going bigger and better than ever with our selection of local craft brewers from here in the Valley and beyond! Sausage tasting too thanks to the epic @exeter_meats team!
URL:https://tchops.org/event/exeter-lion-club-brewfest/
LOCATION:Exeter Veterans Memorial Building\, 324 N Kaweah Ave \, Exeter\, 93221\, United States
ATTACH;FMTTYPE=image/png:https://tchops.org/wp-content/uploads/2023/04/Screen-Shot-2023-04-05-at-10.00.51-AM.png
END:VEVENT
BEGIN:VEVENT
DTSTART;TZID=UTC:20230416T130000
DTEND;TZID=UTC:20230416T150000
DTSTAMP:20260420T064246
CREATED:20230415T010455Z
LAST-MODIFIED:20230415T010607Z
UID:1591-1681650000-1681657200@tchops.org
SUMMARY:TCHOPS April Meeting
DESCRIPTION:Come on out Sunday\, April 16th to Hop Forged Brewery for our monthly club meeting. Come out… Hang Out and learn how to make some fantastic beer. Cheers
URL:https://tchops.org/event/tchops-april-meeting/
LOCATION:Hop Forged Brewery Hanford\, 106 W 7th St.\, Hanford\, CA\, 93230\, United States
ATTACH;FMTTYPE=image/jpeg:https://tchops.org/wp-content/uploads/2023/04/download.jpg
END:VEVENT
BEGIN:VEVENT
DTSTART;TZID=UTC:20230415T110000
DTEND;TZID=UTC:20230415T110000
DTSTAMP:20260420T064246
CREATED:20230405T235949Z
LAST-MODIFIED:20230405T235949Z
UID:1572-1681556400-1681556400@tchops.org
SUMMARY:Rock-N-Roll Brewfest
DESCRIPTION:GenFM LIVE from Rock-N-Roll Brewfest!! \nJoin us in a special event benefiting The Creative Center of Visalia! The Creative Center is a non-profit community arts center for adults with developmental disabilities with the mission of fostering self-expression\, self-worth and personal growth through the arts\, community integration\, providing cultural resources to the community\, and recognizing the individual’s value and contribution. \nFor more information about this event or to purchase tickets\, go to: \nhttps://www.thecreativecenter-visalia.org/buy-tickets
URL:https://tchops.org/event/rock-n-roll-brewfest/
LOCATION:The Creative Center\, 606 N Bridge St.\, Visalia\, CA\, United States
ATTACH;FMTTYPE=image/jpeg:https://tchops.org/wp-content/uploads/2023/04/rock.jpg
END:VEVENT
BEGIN:VEVENT
DTSTART;TZID=UTC:20230325T120000
DTEND;TZID=UTC:20230325T160000
DTSTAMP:20260420T064246
CREATED:20230315T022653Z
LAST-MODIFIED:20230315T022653Z
UID:1552-1679745600-1679760000@tchops.org
SUMMARY:Central Coast Craft Beer Festival 2023
DESCRIPTION:https://eventsbyenfuego.ticketsauce.com/e/central-coast-craft-beer-festival-2023 \n  \nJoin us for the fifth annual Central Coast Craft Beer Fest\, hosted by the Central Coast Brewers Guild\, on Saturday\, March 25th\, 2023 at the famous Sunken Gardens in beautiful Atascadero. Proudly presented by Visit Atascadero and the Holiday Inn Express & Suites in Atascadero.  \nOver 55 independently owned craft breweries\, ciders\, seltzers\, kombucha and wineries from all over California will be on site! \nLive entertainment by Dad Religion\, the Moondawgs and Vinyl DJ Sets by Traffic Records! \nBoth bands include members of local craft breweries!
URL:https://tchops.org/event/central-coast-craft-beer-festival-2023/
LOCATION:Sunken Gardens\, 6505 El Camino Real\, Atascadero\, CA\, 93422\, United States
END:VEVENT
BEGIN:VEVENT
DTSTART;TZID=UTC:20230319T130000
DTEND;TZID=UTC:20230319T150000
DTSTAMP:20260420T064246
CREATED:20230315T022046Z
LAST-MODIFIED:20230315T022726Z
UID:1550-1679230800-1679238000@tchops.org
SUMMARY:TCHOPS March Club Meeting
DESCRIPTION:SOCIAL HOUR 1-2:00 \nMEETING 2-3:00
URL:https://tchops.org/event/tchops-march-club-meeting/
LOCATION:Moosedog Brewing\, 9626 W Nicholas Ave\, Visalia\, CA\, United States
END:VEVENT
BEGIN:VEVENT
DTSTART;TZID=UTC:20230219T130000
DTEND;TZID=UTC:20230219T150000
DTSTAMP:20260420T064246
CREATED:20230220T051846Z
LAST-MODIFIED:20230220T051846Z
UID:1538-1676811600-1676818800@tchops.org
SUMMARY:TCHOPS CLUB MEETING
DESCRIPTION:SOCIAL HOUR 1-2:00 \nMEETING 2-3:00
URL:https://tchops.org/event/tchops-club-meeting-9/
LOCATION:CA
END:VEVENT
BEGIN:VEVENT
DTSTART;TZID=UTC:20221007T170000
DTEND;TZID=UTC:20221007T210000
DTSTAMP:20260420T064246
CREATED:20220804T053707Z
LAST-MODIFIED:20220804T053803Z
UID:1516-1665162000-1665176400@tchops.org
SUMMARY:Tulare Chamber of Commerce/COS Foundation Crush Party
DESCRIPTION:
URL:https://tchops.org/event/tulare-chamber-of-commerce-cos-foundation-crush-party/
LOCATION:CA
END:VEVENT
BEGIN:VEVENT
DTSTART;TZID=UTC:20221001T170000
DTEND;TZID=UTC:20221001T210000
DTSTAMP:20260420T064246
CREATED:20220804T053609Z
LAST-MODIFIED:20220804T053609Z
UID:1513-1664643600-1664658000@tchops.org
SUMMARY:Woodlake High School Foundation Fundraiser Dinner/Brewfest
DESCRIPTION:
URL:https://tchops.org/event/woodlake-high-school-foundation-fundraiser-dinner-brewfest/
LOCATION:Running P Ranch\, 19524 Ave 364\, Woodlake
END:VEVENT
BEGIN:VEVENT
DTSTART;TZID=UTC:20221001T130000
DTEND;TZID=UTC:20221001T170000
DTSTAMP:20260420T064246
CREATED:20220804T053220Z
LAST-MODIFIED:20220804T053220Z
UID:1511-1664629200-1664643600@tchops.org
SUMMARY:Irish Fest
DESCRIPTION:
URL:https://tchops.org/event/irish-fest/
LOCATION:Visalia Rawhide Stadium\, 300 N Giddings\, Visalia\, CA\, 93291\, United States
END:VEVENT
BEGIN:VEVENT
DTSTART;TZID=UTC:20220923T170000
DTEND;TZID=UTC:20220923T210000
DTSTAMP:20260420T064246
CREATED:20220804T053043Z
LAST-MODIFIED:20220804T053043Z
UID:1509-1663952400-1663966800@tchops.org
SUMMARY:Octoberfest - Vossler's Farm
DESCRIPTION:
URL:https://tchops.org/event/octoberfest-vosslers-farm/
LOCATION:Vossler Farms\, 26773 S. Mooney Blvd\, Visalia\, Ca
END:VEVENT
BEGIN:VEVENT
DTSTART;TZID=UTC:20220918T130000
DTEND;TZID=UTC:20220918T150000
DTSTAMP:20260420T064246
CREATED:20220804T052739Z
LAST-MODIFIED:20220804T052739Z
UID:1507-1663506000-1663513200@tchops.org
SUMMARY:TCHOPS CLUB MEETING
DESCRIPTION:social 1pm \nmeeting 2pm
URL:https://tchops.org/event/tchops-club-meeting-5/
LOCATION:John & Donna Morrison’s home\, 133 Carl Drive \, Visalia\, Ca
END:VEVENT
BEGIN:VEVENT
DTSTART;TZID=UTC:20220820T130000
DTEND;TZID=UTC:20220820T170000
DTSTAMP:20260420T064246
CREATED:20220804T052619Z
LAST-MODIFIED:20220804T052619Z
UID:1504-1661000400-1661014800@tchops.org
SUMMARY:Visalia Craft Beer Festival
DESCRIPTION:
URL:https://tchops.org/event/visalia-craft-beer-festival/
LOCATION:PPAV Hall\, 820 E Mains St\, Visalia\, Ca
END:VEVENT
BEGIN:VEVENT
DTSTART;TZID=UTC:20220813T130000
DTEND;TZID=UTC:20220813T150000
DTSTAMP:20260420T064246
CREATED:20220804T052133Z
LAST-MODIFIED:20220804T052133Z
UID:1501-1660395600-1660402800@tchops.org
SUMMARY:TCHOPS Joint Meeting with WARTHOGS
DESCRIPTION:social hour 1:00 \nmeeting 2:00
URL:https://tchops.org/event/tchops-joint-meeting-with-warthogs/
LOCATION:Roadhouse 99\, 1515 Smith St\, Kingsburg\, 93631\, United States
END:VEVENT
BEGIN:VEVENT
DTSTART;TZID=UTC:20220717T130000
DTEND;TZID=UTC:20220717T150000
DTSTAMP:20260420T064246
CREATED:20220315T011024Z
LAST-MODIFIED:20220319T010344Z
UID:1437-1658062800-1658070000@tchops.org
SUMMARY:TCHOPS CLUB MEETING
DESCRIPTION:1:00 SOCIAL HOUR\n2:00 Bianca Alley from Omega Yeast – presentation
URL:https://tchops.org/event/tchops-club-meeting-4/
LOCATION:Robert & Tiffany Jesus\, 15435 Avenue 332\, Ivanhoe\, CA\, 93235\, United States
END:VEVENT
BEGIN:VEVENT
DTSTART;TZID=UTC:20220626T130000
DTEND;TZID=UTC:20220626T150000
DTSTAMP:20260420T064246
CREATED:20220315T011446Z
LAST-MODIFIED:20220618T002613Z
UID:1441-1656248400-1656255600@tchops.org
SUMMARY:TCHOPS CLUB MEETING
DESCRIPTION:1:00 SOCIAL HOUR\n2:00 MEETING
URL:https://tchops.org/event/tchops-club-meeting-6/
LOCATION:Burt & Moni’s Residence\, 21728 Badger Hill Ave.\, Exeter\, CA\, 93221
END:VEVENT
BEGIN:VEVENT
DTSTART;TZID=UTC:20220604T130000
DTEND;TZID=UTC:20220604T160000
DTSTAMP:20260420T064246
CREATED:20220319T011014Z
LAST-MODIFIED:20220604T032424Z
UID:1451-1654347600-1654358400@tchops.org
SUMMARY:TCHOPS - HOMETOWN BREWFEST (POSTPONED) CHECK BACK FOR A NEW DATE SOON!
DESCRIPTION:Join the TCHops Home Brew Club for our first annual Hometown Brewfest. If you like TCHOPS beer then you’ll love hanging out with us June 4th\, in the parking lot at Bell Craft Brewery in Exeter. We have some great brewers and we love sharing our hobby with you. \nThere will be food trucks\, a raffle and voting for people’s choice for best beer of the day. \nLive Music by: We Hunt Like Wolves \nBring a folding chair if sitting is your thing. \nOne Day Memberships will only be sold at the door @ $10 a person. There will be limited entries\, so arrive early. \n 
URL:https://tchops.org/event/tchops-test-batch-home-brew-fest/
LOCATION:Bell Craft Brewery\, 130 N E St\, Exeter\, CA\, 93221\, United States
END:VEVENT
BEGIN:VEVENT
DTSTART;TZID=UTC:20220515T130000
DTEND;TZID=UTC:20220515T150000
DTSTAMP:20260420T064246
CREATED:20220510T222633Z
LAST-MODIFIED:20220510T222633Z
UID:1480-1652619600-1652626800@tchops.org
SUMMARY:TCHOPS CLUB MEETING
DESCRIPTION:social hour 1:00 \nmeeting 2:00
URL:https://tchops.org/event/tchops-club-meeting-8/
LOCATION:Plan B\, 129 W 5th Street\, Hanford\, CA\, 93230\, United States
END:VEVENT
BEGIN:VEVENT
DTSTART;TZID=UTC:20220424T130000
DTEND;TZID=UTC:20220424T150000
DTSTAMP:20260420T064246
CREATED:20220319T005642Z
LAST-MODIFIED:20220319T005833Z
UID:1444-1650805200-1650812400@tchops.org
SUMMARY:TCHOPS CLUB MEETING
DESCRIPTION:1:00pm Social Hour\n2:00pm – American Home Brewers Association presentation with a Q/A
URL:https://tchops.org/event/tchops-club-meeting-7/
LOCATION:Long Shot Brewery\, 511 E Main St\, Visalia\, CA\, 93292\, United States
END:VEVENT
END:VCALENDAR