BEGIN:VCALENDAR
VERSION:2.0
PRODID:-//TC HOPS - ECPv6.15.20//NONSGML v1.0//EN
CALSCALE:GREGORIAN
METHOD:PUBLISH
X-WR-CALNAME:TC HOPS
X-ORIGINAL-URL:https://tchops.org
X-WR-CALDESC:Events for TC HOPS
REFRESH-INTERVAL;VALUE=DURATION:PT1H
X-Robots-Tag:noindex
X-PUBLISHED-TTL:PT1H
BEGIN:VTIMEZONE
TZID:UTC
BEGIN:STANDARD
TZOFFSETFROM:+0000
TZOFFSETTO:+0000
TZNAME:UTC
DTSTART:20200101T000000
END:STANDARD
END:VTIMEZONE
BEGIN:VEVENT
DTSTART;TZID=UTC:20221001T130000
DTEND;TZID=UTC:20221001T170000
DTSTAMP:20260420T063814
CREATED:20220804T053220Z
LAST-MODIFIED:20220804T053220Z
UID:1511-1664629200-1664643600@tchops.org
SUMMARY:Irish Fest
DESCRIPTION:
URL:https://tchops.org/event/irish-fest/
LOCATION:Visalia Rawhide Stadium\, 300 N Giddings\, Visalia\, CA\, 93291\, United States
END:VEVENT
BEGIN:VEVENT
DTSTART;TZID=UTC:20220923T170000
DTEND;TZID=UTC:20220923T210000
DTSTAMP:20260420T063814
CREATED:20220804T053043Z
LAST-MODIFIED:20220804T053043Z
UID:1509-1663952400-1663966800@tchops.org
SUMMARY:Octoberfest - Vossler's Farm
DESCRIPTION:
URL:https://tchops.org/event/octoberfest-vosslers-farm/
LOCATION:Vossler Farms\, 26773 S. Mooney Blvd\, Visalia\, Ca
END:VEVENT
BEGIN:VEVENT
DTSTART;TZID=UTC:20220918T130000
DTEND;TZID=UTC:20220918T150000
DTSTAMP:20260420T063815
CREATED:20220804T052739Z
LAST-MODIFIED:20220804T052739Z
UID:1507-1663506000-1663513200@tchops.org
SUMMARY:TCHOPS CLUB MEETING
DESCRIPTION:social 1pm \nmeeting 2pm
URL:https://tchops.org/event/tchops-club-meeting-5/
LOCATION:John & Donna Morrison’s home\, 133 Carl Drive \, Visalia\, Ca
END:VEVENT
BEGIN:VEVENT
DTSTART;TZID=UTC:20220820T130000
DTEND;TZID=UTC:20220820T170000
DTSTAMP:20260420T063815
CREATED:20220804T052619Z
LAST-MODIFIED:20220804T052619Z
UID:1504-1661000400-1661014800@tchops.org
SUMMARY:Visalia Craft Beer Festival
DESCRIPTION:
URL:https://tchops.org/event/visalia-craft-beer-festival/
LOCATION:PPAV Hall\, 820 E Mains St\, Visalia\, Ca
END:VEVENT
BEGIN:VEVENT
DTSTART;TZID=UTC:20220813T130000
DTEND;TZID=UTC:20220813T150000
DTSTAMP:20260420T063815
CREATED:20220804T052133Z
LAST-MODIFIED:20220804T052133Z
UID:1501-1660395600-1660402800@tchops.org
SUMMARY:TCHOPS Joint Meeting with WARTHOGS
DESCRIPTION:social hour 1:00 \nmeeting 2:00
URL:https://tchops.org/event/tchops-joint-meeting-with-warthogs/
LOCATION:Roadhouse 99\, 1515 Smith St\, Kingsburg\, 93631\, United States
END:VEVENT
BEGIN:VEVENT
DTSTART;TZID=UTC:20220717T130000
DTEND;TZID=UTC:20220717T150000
DTSTAMP:20260420T063815
CREATED:20220315T011024Z
LAST-MODIFIED:20220319T010344Z
UID:1437-1658062800-1658070000@tchops.org
SUMMARY:TCHOPS CLUB MEETING
DESCRIPTION:1:00 SOCIAL HOUR\n2:00 Bianca Alley from Omega Yeast – presentation
URL:https://tchops.org/event/tchops-club-meeting-4/
LOCATION:Robert & Tiffany Jesus\, 15435 Avenue 332\, Ivanhoe\, CA\, 93235\, United States
END:VEVENT
BEGIN:VEVENT
DTSTART;TZID=UTC:20220626T130000
DTEND;TZID=UTC:20220626T150000
DTSTAMP:20260420T063815
CREATED:20220315T011446Z
LAST-MODIFIED:20220618T002613Z
UID:1441-1656248400-1656255600@tchops.org
SUMMARY:TCHOPS CLUB MEETING
DESCRIPTION:1:00 SOCIAL HOUR\n2:00 MEETING
URL:https://tchops.org/event/tchops-club-meeting-6/
LOCATION:Burt & Moni’s Residence\, 21728 Badger Hill Ave.\, Exeter\, CA\, 93221
END:VEVENT
BEGIN:VEVENT
DTSTART;TZID=UTC:20220604T130000
DTEND;TZID=UTC:20220604T160000
DTSTAMP:20260420T063815
CREATED:20220319T011014Z
LAST-MODIFIED:20220604T032424Z
UID:1451-1654347600-1654358400@tchops.org
SUMMARY:TCHOPS - HOMETOWN BREWFEST (POSTPONED) CHECK BACK FOR A NEW DATE SOON!
DESCRIPTION:Join the TCHops Home Brew Club for our first annual Hometown Brewfest. If you like TCHOPS beer then you’ll love hanging out with us June 4th\, in the parking lot at Bell Craft Brewery in Exeter. We have some great brewers and we love sharing our hobby with you. \nThere will be food trucks\, a raffle and voting for people’s choice for best beer of the day. \nLive Music by: We Hunt Like Wolves \nBring a folding chair if sitting is your thing. \nOne Day Memberships will only be sold at the door @ $10 a person. There will be limited entries\, so arrive early. \n 
URL:https://tchops.org/event/tchops-test-batch-home-brew-fest/
LOCATION:Bell Craft Brewery\, 130 N E St\, Exeter\, CA\, 93221\, United States
END:VEVENT
BEGIN:VEVENT
DTSTART;TZID=UTC:20220515T130000
DTEND;TZID=UTC:20220515T150000
DTSTAMP:20260420T063815
CREATED:20220510T222633Z
LAST-MODIFIED:20220510T222633Z
UID:1480-1652619600-1652626800@tchops.org
SUMMARY:TCHOPS CLUB MEETING
DESCRIPTION:social hour 1:00 \nmeeting 2:00
URL:https://tchops.org/event/tchops-club-meeting-8/
LOCATION:Plan B\, 129 W 5th Street\, Hanford\, CA\, 93230\, United States
END:VEVENT
BEGIN:VEVENT
DTSTART;TZID=UTC:20220424T130000
DTEND;TZID=UTC:20220424T150000
DTSTAMP:20260420T063815
CREATED:20220319T005642Z
LAST-MODIFIED:20220319T005833Z
UID:1444-1650805200-1650812400@tchops.org
SUMMARY:TCHOPS CLUB MEETING
DESCRIPTION:1:00pm Social Hour\n2:00pm – American Home Brewers Association presentation with a Q/A
URL:https://tchops.org/event/tchops-club-meeting-7/
LOCATION:Long Shot Brewery\, 511 E Main St\, Visalia\, CA\, 93292\, United States
END:VEVENT
BEGIN:VEVENT
DTSTART;TZID=UTC:20220320T130000
DTEND;TZID=UTC:20220320T150000
DTSTAMP:20260420T063815
CREATED:20220315T010900Z
LAST-MODIFIED:20220315T010915Z
UID:1435-1647781200-1647788400@tchops.org
SUMMARY:TCHOPS CLUB MEETING
DESCRIPTION:1:00 SOCIAL HOUR\n2:00 MEETING
URL:https://tchops.org/event/tchops-club-meeting-3/
LOCATION:Three Rivers Brewery\, 41763 Sierra Drive\, Three Rivers\, CA\, United States
END:VEVENT
BEGIN:VEVENT
DTSTART;TZID=UTC:20220220T130000
DTEND;TZID=UTC:20220220T150000
DTSTAMP:20260420T063815
CREATED:20220127T062352Z
LAST-MODIFIED:20220127T062352Z
UID:1211-1645362000-1645369200@tchops.org
SUMMARY:TCHOPS CLUB MEETING
DESCRIPTION:1:00-2:00 Social Hour\n2:00-3:00 Meeting
URL:https://tchops.org/event/tchops-club-meeting-2/
LOCATION:Moosedog Brewing\, 9626 W Nicholas Ave\, Visalia\, CA\, United States
END:VEVENT
BEGIN:VEVENT
DTSTART;TZID=UTC:20211219T130000
DTEND;TZID=UTC:20211219T150000
DTSTAMP:20260420T063815
CREATED:20211007T042945Z
LAST-MODIFIED:20211007T043127Z
UID:1424-1639918800-1639926000@tchops.org
SUMMARY:TCHOPS CLUB MEETING & END OF THE YEAR PARTY/RAFFLE
DESCRIPTION:We will have our annual raffle and vote for the new  2nd VP and if anyone chooses to nominate for other positions\, such as; secretary or treasurer. New officers will take over January 1st\, 2022.
URL:https://tchops.org/event/tchops-club-meeting-end-of-the-year-party-raffle/
LOCATION:Open
END:VEVENT
BEGIN:VEVENT
DTSTART;TZID=UTC:20211121T130000
DTEND;TZID=UTC:20211121T150000
DTSTAMP:20260420T063815
CREATED:20211007T040752Z
LAST-MODIFIED:20211007T042642Z
UID:1418-1637499600-1637506800@tchops.org
SUMMARY:TCHOPS CLUB MEETING & BEER COMPETITION
DESCRIPTION:Annual club beer competition and meeting.\n	Nominations are open for 2nd Vice President and if anyone wants to nominate for Secretary or Treasurer.\n1:00 – SOCIAL HOUR\n2:00 – 3:00 MEETING
URL:https://tchops.org/event/tchops-club-meeting/
LOCATION:Brewbaker’s\, 219 E Main St \, Visalia \, CA\, 93291\, United States
END:VEVENT
BEGIN:VEVENT
DTSTART;TZID=UTC:20211023T120000
DTEND;TZID=UTC:20211023T160000
DTSTAMP:20260420T063815
CREATED:20210517T020756Z
LAST-MODIFIED:20210629T030732Z
UID:1405-1634990400-1635004800@tchops.org
SUMMARY:Central Coast Craft Beer Fest
DESCRIPTION:
URL:https://tchops.org/event/central-coast-craft-beer-fest/
LOCATION:Sunken Gardens\, 6505 El Camino Real\, Atascadero\, CA\, 93422\, United States
END:VEVENT
BEGIN:VEVENT
DTSTART;TZID=UTC:20211016T130000
DTEND;TZID=UTC:20211016T170000
DTSTAMP:20260420T063815
CREATED:20210517T020204Z
LAST-MODIFIED:20210517T020204Z
UID:1400-1634389200-1634403600@tchops.org
SUMMARY:Kernville Rockin River Beer and Music Festival 2021
DESCRIPTION:
URL:https://tchops.org/event/kernville-rockin-river-beer-and-music-festival-2021/
LOCATION:Rivernook Campground\, 14001 Sierra Way\, Kernville\, CA\, 93238\, United States
END:VEVENT
BEGIN:VEVENT
DTSTART;TZID=UTC:20211009T130000
DTEND;TZID=UTC:20211009T170000
DTSTAMP:20260420T063815
CREATED:20210517T015649Z
LAST-MODIFIED:20210517T015649Z
UID:1398-1633784400-1633798800@tchops.org
SUMMARY:Visalia Lions Irish Fest October Fest
DESCRIPTION:Event will be held at the Rawhide Ball park October 9th 2021\, outfield (since baseball will be completed).  
URL:https://tchops.org/event/visalia-lions-irish-fest-october-fest/
LOCATION:Visalia Rawhide Baseball Club\, 300 N Giddings St\, Visalia\, United States
END:VEVENT
BEGIN:VEVENT
DTSTART;TZID=UTC:20211002T140000
DTEND;TZID=UTC:20211002T180000
DTSTAMP:20260420T063815
CREATED:20210517T015010Z
LAST-MODIFIED:20210517T015010Z
UID:1396-1633183200-1633197600@tchops.org
SUMMARY:Exeter Lions Club Brewfest
DESCRIPTION:
URL:https://tchops.org/event/exeter-lions-club-brewfest/
LOCATION:Exeter Veterans Memorial Building\, 324 N Kaweah Ave \, Exeter\, 93221\, United States
END:VEVENT
BEGIN:VEVENT
DTSTART;TZID=UTC:20210924T173000
DTEND;TZID=UTC:20210924T213000
DTSTAMP:20260420T063815
CREATED:20210517T020408Z
LAST-MODIFIED:20210517T020408Z
UID:1403-1632504600-1632519000@tchops.org
SUMMARY:Oktoberfest
DESCRIPTION:
URL:https://tchops.org/event/oktoberfest-2/
LOCATION:Vossler Farms\, 26773 S. Mooney Blvd\, Visalia\, Ca
END:VEVENT
END:VCALENDAR